Package: GloScope Version: 1.99.2 Command: /home/biocbuild/R/R/bin/R CMD build --keep-empty-dirs --no-resave-data GloScope StartedAt: 2025-10-21 00:10:33 -0000 (Tue, 21 Oct 2025) EndedAt: 2025-10-21 00:12:03 -0000 (Tue, 21 Oct 2025) EllapsedTime: 90.0 seconds RetCode: 0 Status: OK PackageFile: GloScope_1.99.2.tar.gz PackageFileSize: 2.637 MiB