Package: GloScope Version: 1.99.2 Command: /home/biocbuild/bbs-3.22-bioc/R/bin/R CMD build --keep-empty-dirs --no-resave-data --md5 GloScope StartedAt: 2025-10-23 17:57:27 -0400 (Thu, 23 Oct 2025) EndedAt: 2025-10-23 17:58:34 -0400 (Thu, 23 Oct 2025) EllapsedTime: 67.0 seconds RetCode: 0 Status: OK PackageFile: GloScope_1.99.2.tar.gz PackageFileSize: 2.73 MiB