Package: GloScope Version: 2.0.0 Command: rm -rf GloScope.buildbin-libdir && mkdir GloScope.buildbin-libdir && /Users/biocbuild/BBS/utils/build-universal.sh GloScope_2.0.0.tar.gz /Library/Frameworks/R.framework/Resources/bin/R GloScope.buildbin-libdir StartedAt: 2025-11-03 01:43:39 -0500 (Mon, 03 Nov 2025) EndedAt: 2025-11-03 01:44:18 -0500 (Mon, 03 Nov 2025) EllapsedTime: 39.2 seconds RetCode: 0 Status: OK PackageFile: GloScope_2.0.0.tgz PackageFileSize: 2.762 MiB