Package: GloScope Version: 1.99.2 Command: /Library/Frameworks/R.framework/Resources/bin/R CMD check --install=check:GloScope.install-out.txt --library=/Library/Frameworks/R.framework/Resources/library --no-vignettes --timings GloScope_1.99.2.tar.gz StartedAt: 2025-10-27 20:00:56 -0400 (Mon, 27 Oct 2025) EndedAt: 2025-10-27 20:04:45 -0400 (Mon, 27 Oct 2025) EllapsedTime: 228.5 seconds RetCode: 0 Status: OK CheckDir: GloScope.Rcheck Warnings: 0