Package: GloScope Version: 1.99.2 Command: rm -rf GloScope.buildbin-libdir && mkdir GloScope.buildbin-libdir && /Users/biocbuild/BBS/utils/build-universal.sh GloScope_1.99.2.tar.gz /Library/Frameworks/R.framework/Resources/bin/R GloScope.buildbin-libdir StartedAt: 2025-10-26 22:37:29 -0400 (Sun, 26 Oct 2025) EndedAt: 2025-10-26 22:37:40 -0400 (Sun, 26 Oct 2025) EllapsedTime: 11.2 seconds RetCode: 0 Status: OK PackageFile: GloScope_1.99.2.tgz PackageFileSize: 2.763 MiB