Package: Glimma Version: 2.19.2 Command: /home/biocbuild/R/R/bin/R CMD INSTALL Glimma StartedAt: 2025-10-16 21:34:09 -0000 (Thu, 16 Oct 2025) EndedAt: 2025-10-16 21:34:46 -0000 (Thu, 16 Oct 2025) EllapsedTime: 37.4 seconds RetCode: 0 Status: OK