Package: Glimma Version: 2.19.2 Command: /home/biocbuild/R/R/bin/R CMD build --keep-empty-dirs --no-resave-data Glimma StartedAt: 2025-10-17 01:34:40 -0000 (Fri, 17 Oct 2025) EndedAt: 2025-10-17 01:46:18 -0000 (Fri, 17 Oct 2025) EllapsedTime: 698.2 seconds RetCode: 0 Status: OK PackageFile: Glimma_2.19.2.tar.gz PackageFileSize: 11.55 MiB