Package: Glimma Version: 2.19.2 Command: /home/biocbuild/bbs-3.22-bioc/R/bin/R CMD INSTALL Glimma StartedAt: 2025-10-19 15:22:57 -0400 (Sun, 19 Oct 2025) EndedAt: 2025-10-19 15:23:25 -0400 (Sun, 19 Oct 2025) EllapsedTime: 27.2 seconds RetCode: 0 Status: OK