Package: Glimma Version: 2.19.2 Command: /home/biocbuild/bbs-3.22-bioc/R/bin/R CMD check --install=check:Glimma.install-out.txt --library=/home/biocbuild/bbs-3.22-bioc/R/site-library --timings Glimma_2.19.2.tar.gz StartedAt: 2025-10-20 00:26:51 -0400 (Mon, 20 Oct 2025) EndedAt: 2025-10-20 00:38:54 -0400 (Mon, 20 Oct 2025) EllapsedTime: 722.7 seconds RetCode: 0 Status: OK CheckDir: Glimma.Rcheck Warnings: 0