Package: Glimma Version: 2.19.2 Command: /Library/Frameworks/R.framework/Resources/bin/R CMD INSTALL Glimma StartedAt: 2025-10-19 15:23:53 -0400 (Sun, 19 Oct 2025) EndedAt: 2025-10-19 15:24:32 -0400 (Sun, 19 Oct 2025) EllapsedTime: 39.0 seconds RetCode: 0 Status: OK