Package: Glimma Version: 2.19.2 Command: rm -rf Glimma.buildbin-libdir && mkdir Glimma.buildbin-libdir && /Users/biocbuild/BBS/utils/build-universal.sh Glimma_2.19.2.tar.gz /Library/Frameworks/R.framework/Resources/bin/R Glimma.buildbin-libdir StartedAt: 2025-10-18 03:00:41 -0400 (Sat, 18 Oct 2025) EndedAt: 2025-10-18 03:01:29 -0400 (Sat, 18 Oct 2025) EllapsedTime: 47.5 seconds RetCode: 0 Status: OK PackageFile: Glimma_2.19.2.tgz PackageFileSize: 8.767 MiB