Package: Glimma Version: 2.19.2 Command: /Library/Frameworks/R.framework/Resources/bin/R CMD INSTALL Glimma StartedAt: 2025-10-17 15:13:45 -0400 (Fri, 17 Oct 2025) EndedAt: 2025-10-17 15:13:56 -0400 (Fri, 17 Oct 2025) EllapsedTime: 11.0 seconds RetCode: 0 Status: OK