Package: Glimma Version: 2.19.2 Command: /Library/Frameworks/R.framework/Resources/bin/R CMD check --install=check:Glimma.install-out.txt --library=/Library/Frameworks/R.framework/Resources/library --no-vignettes --timings Glimma_2.19.2.tar.gz StartedAt: 2025-10-19 19:58:20 -0400 (Sun, 19 Oct 2025) EndedAt: 2025-10-19 20:00:24 -0400 (Sun, 19 Oct 2025) EllapsedTime: 123.4 seconds RetCode: 0 Status: OK CheckDir: Glimma.Rcheck Warnings: 0