Package: Glimma Version: 2.19.2 Command: /Library/Frameworks/R.framework/Resources/bin/R CMD build --keep-empty-dirs --no-resave-data Glimma StartedAt: 2025-10-19 16:31:49 -0400 (Sun, 19 Oct 2025) EndedAt: 2025-10-19 16:35:24 -0400 (Sun, 19 Oct 2025) EllapsedTime: 214.2 seconds RetCode: 0 Status: OK PackageFile: Glimma_2.19.2.tar.gz PackageFileSize: 11.12 MiB