Package: GladiaTOX Version: 1.26.0 Command: /home/biocbuild/bbs-3.22-bioc/R/bin/R CMD INSTALL GladiaTOX StartedAt: 2025-11-16 15:09:40 -0500 (Sun, 16 Nov 2025) EndedAt: 2025-11-16 15:09:53 -0500 (Sun, 16 Nov 2025) EllapsedTime: 12.8 seconds RetCode: 0 Status: OK