Package: GladiaTOX Version: 1.26.0 Command: /home/biocbuild/bbs-3.22-bioc/R/bin/R CMD check --install=check:GladiaTOX.install-out.txt --library=/home/biocbuild/bbs-3.22-bioc/R/site-library --timings GladiaTOX_1.26.0.tar.gz StartedAt: 2025-11-17 00:18:25 -0500 (Mon, 17 Nov 2025) EndedAt: 2025-11-17 00:23:41 -0500 (Mon, 17 Nov 2025) EllapsedTime: 315.4 seconds RetCode: 0 Status: OK CheckDir: GladiaTOX.Rcheck Warnings: 0