Package: GladiaTOX Version: 1.26.0 Command: /Library/Frameworks/R.framework/Resources/bin/R CMD INSTALL GladiaTOX StartedAt: 2025-11-20 16:10:22 -0500 (Thu, 20 Nov 2025) EndedAt: 2025-11-20 16:10:35 -0500 (Thu, 20 Nov 2025) EllapsedTime: 13.2 seconds RetCode: 0 Status: OK