Package: GladiaTOX Version: 1.26.0 Command: /Library/Frameworks/R.framework/Resources/bin/R CMD check --install=check:GladiaTOX.install-out.txt --library=/Library/Frameworks/R.framework/Resources/library --no-vignettes --timings GladiaTOX_1.26.0.tar.gz StartedAt: 2025-11-18 07:13:10 -0500 (Tue, 18 Nov 2025) EndedAt: 2025-11-18 07:14:11 -0500 (Tue, 18 Nov 2025) EllapsedTime: 60.5 seconds RetCode: 0 Status: OK CheckDir: GladiaTOX.Rcheck Warnings: 0