Package: GladiaTOX Version: 1.26.0 Command: /Library/Frameworks/R.framework/Resources/bin/R CMD build --keep-empty-dirs --no-resave-data GladiaTOX StartedAt: 2025-11-17 21:33:43 -0500 (Mon, 17 Nov 2025) EndedAt: 2025-11-17 21:35:21 -0500 (Mon, 17 Nov 2025) EllapsedTime: 98.8 seconds RetCode: 0 Status: OK PackageFile: GladiaTOX_1.26.0.tar.gz PackageFileSize: 3.961 MiB