Package: GeomxTools Version: 3.13.1 Command: /home/biocbuild/R/R/bin/R CMD check --install=check:GeomxTools.install-out.txt --library=/home/biocbuild/R/R/site-library --no-vignettes --timings GeomxTools_3.13.1.tar.gz StartedAt: 2025-10-17 09:31:03 -0000 (Fri, 17 Oct 2025) EndedAt: 2025-10-17 09:58:58 -0000 (Fri, 17 Oct 2025) EllapsedTime: 1675.1 seconds RetCode: 0 Status: OK CheckDir: GeomxTools.Rcheck Warnings: 0