Package: GeomxTools Version: 3.13.1 Command: /home/biocbuild/bbs-3.22-bioc/R/bin/R CMD INSTALL GeomxTools StartedAt: 2025-10-20 15:14:54 -0400 (Mon, 20 Oct 2025) EndedAt: 2025-10-20 15:15:21 -0400 (Mon, 20 Oct 2025) EllapsedTime: 26.5 seconds RetCode: 0 Status: OK