Package: GeomxTools Version: 3.13.1 Command: /home/biocbuild/bbs-3.22-bioc/R/bin/R CMD build --keep-empty-dirs --no-resave-data --md5 GeomxTools StartedAt: 2025-10-19 17:50:40 -0400 (Sun, 19 Oct 2025) EndedAt: 2025-10-19 17:56:38 -0400 (Sun, 19 Oct 2025) EllapsedTime: 358.3 seconds RetCode: 0 Status: OK PackageFile: GeomxTools_3.13.1.tar.gz PackageFileSize: 15.63 MiB