Package: GeomxTools Version: 3.13.1 Command: /Library/Frameworks/R.framework/Resources/bin/R CMD check --install=check:GeomxTools.install-out.txt --library=/Library/Frameworks/R.framework/Resources/library --no-vignettes --timings GeomxTools_3.13.1.tar.gz StartedAt: 2025-10-19 22:42:01 -0400 (Sun, 19 Oct 2025) EndedAt: 2025-10-19 23:12:56 -0400 (Sun, 19 Oct 2025) EllapsedTime: 1854.8 seconds RetCode: 0 Status: OK CheckDir: GeomxTools.Rcheck Warnings: 0