Package: GeomxTools Version: 3.13.1 Command: /Library/Frameworks/R.framework/Resources/bin/R CMD build --keep-empty-dirs --no-resave-data GeomxTools StartedAt: 2025-10-19 17:22:38 -0400 (Sun, 19 Oct 2025) EndedAt: 2025-10-19 17:32:12 -0400 (Sun, 19 Oct 2025) EllapsedTime: 573.7 seconds RetCode: 0 Status: OK PackageFile: GeomxTools_3.13.1.tar.gz PackageFileSize: 17.03 MiB