############################################################################## ############################################################################## ### ### Running command: ### ### /Library/Frameworks/R.framework/Resources/bin/R CMD check --install=check:GeomxTools.install-out.txt --library=/Library/Frameworks/R.framework/Resources/library --no-vignettes --timings GeomxTools_3.13.1.tar.gz ### ############################################################################## ############################################################################## * using log directory ‘/Users/biocbuild/bbs-3.22-bioc/meat/GeomxTools.Rcheck’ * using R version 4.5.1 Patched (2025-09-10 r88807) * using platform: aarch64-apple-darwin20 * R was compiled by Apple clang version 16.0.0 (clang-1600.0.26.6) GNU Fortran (GCC) 14.2.0 * running under: macOS Ventura 13.7.7 * using session charset: UTF-8 * using option ‘--no-vignettes’ * checking for file ‘GeomxTools/DESCRIPTION’ ... OK * this is package ‘GeomxTools’ version ‘3.13.1’ * package encoding: UTF-8 * checking package namespace information ... OK * checking package dependencies ... OK * checking if this is a source package ... OK * checking if there is a namespace ... OK * checking for hidden files and directories ... OK * checking for portable file names ... OK * checking for sufficient/correct file permissions ... OK * checking whether package ‘GeomxTools’ can be installed ... OK * checking installed package size ... INFO installed size is 19.4Mb sub-directories of 1Mb or more: extdata 18.5Mb * checking package directory ... OK * checking ‘build’ directory ... OK * checking DESCRIPTION meta-information ... NOTE License components which are templates and need '+ file LICENSE': MIT * checking top-level files ... NOTE File LICENSE is not mentioned in the DESCRIPTION file. * checking for left-over files ... OK * checking index information ... OK * checking package subdirectories ... OK * checking code files for non-ASCII characters ... OK * checking R files for syntax errors ... OK * checking whether the package can be loaded ... OK * checking whether the package can be loaded with stated dependencies ... OK * checking whether the package can be unloaded cleanly ... OK * checking whether the namespace can be loaded with stated dependencies ... OK * checking whether the namespace can be unloaded cleanly ... OK * checking dependencies in R code ... OK * checking S3 generic/method consistency ... OK * checking replacement functions ... OK * checking foreign function calls ... OK * checking R code for possible problems ... NOTE aggregateCounts: no visible binding for global variable ‘TargetName’ hkNorm: no visible binding for global variable ‘TargetName’ mixedModelDE: multiple local function definitions for ‘deFunc’ with different formal arguments qgrubbs: no visible global function definition for ‘qtable’ readNanoStringGeoMxSet: no visible global function definition for ‘read.table’ readPKCFile: no visible binding for global variable ‘RTS_ID’ readPKCFile: no visible binding for global variable ‘Module’ setGrubbsFlags: no visible binding for global variable ‘TargetName’ setGrubbsFlags : : no visible binding for global variable ‘Module’ setProbeRatioFlags: no visible binding for global variable ‘TargetName’ setTargetFlags: no visible global function definition for ‘analtye’ subtractBackground : : no visible binding for global variable ‘Module’ setSignatureFuncs<-,NanoStringGeoMxSet-character: no visible global function definition for ‘setSigFuncs<-’ signatureScores,NanoStringGeoMxSet: no visible global function definition for ‘assayDataElement2’ signatureScores,NanoStringGeoMxSet: no visible global function definition for ‘.sigCalc’ Undefined global functions or variables: .sigCalc Module RTS_ID TargetName analtye assayDataElement2 qtable read.table setSigFuncs<- Consider adding importFrom("utils", "read.table") to your NAMESPACE file. * checking Rd files ... OK * checking Rd metadata ... OK * checking Rd cross-references ... NOTE Found the following Rd file(s) with Rd \link{} targets missing package anchors: NanoStringGeoMxSet-class.Rd: ExpressionSet-class, AnnotatedDataFrame, MIAME, SignatureSet, ExpressionSet readPKCFile.Rd: DataFrame-class Please provide package anchors for all Rd \link{} targets not in the package itself and the base packages. * checking for missing documentation entries ... OK * checking for code/documentation mismatches ... OK * checking Rd \usage sections ... OK * checking Rd contents ... OK * checking for unstated dependencies in examples ... OK * checking files in ‘vignettes’ ... OK * checking examples ... OK Examples with CPU (user + system) or elapsed time > 5s user system elapsed readNanoStringGeoMxSet 18.868 3.153 22.092 mixedModelDE 20.516 0.529 21.308 normalize-NanoStringGeoMxSet-method 16.555 0.482 0.071 NanoStringGeoMxSet-class 7.960 0.979 9.018 writeNanoStringGeoMxSet 7.729 1.145 8.887 readPKCFile 4.655 0.977 5.643 * checking for unstated dependencies in ‘tests’ ... OK * checking tests ... Running ‘testthat.R’ OK * checking for unstated dependencies in vignettes ... OK * checking package vignettes ... OK * checking running R code from vignettes ... SKIPPED * checking re-building of vignette outputs ... SKIPPED * checking PDF version of manual ... OK * DONE Status: 4 NOTEs See ‘/Users/biocbuild/bbs-3.22-bioc/meat/GeomxTools.Rcheck/00check.log’ for details.