Package: GeomxTools Version: 3.13.1 Command: /Library/Frameworks/R.framework/Resources/bin/R CMD build --keep-empty-dirs --no-resave-data GeomxTools StartedAt: 2025-10-19 16:30:10 -0400 (Sun, 19 Oct 2025) EndedAt: 2025-10-19 16:32:29 -0400 (Sun, 19 Oct 2025) EllapsedTime: 138.4 seconds RetCode: 0 Status: OK PackageFile: GeomxTools_3.13.1.tar.gz PackageFileSize: 17.04 MiB