Package: GeoTcgaData Version: 2.9.0 Command: /home/biocbuild/R/R/bin/R CMD INSTALL GeoTcgaData StartedAt: 2025-10-16 21:30:33 -0000 (Thu, 16 Oct 2025) EndedAt: 2025-10-16 21:31:21 -0000 (Thu, 16 Oct 2025) EllapsedTime: 47.5 seconds RetCode: 0 Status: OK