Package: GeoTcgaData Version: 2.9.0 Command: /Library/Frameworks/R.framework/Resources/bin/R CMD check --install=check:GeoTcgaData.install-out.txt --library=/Library/Frameworks/R.framework/Resources/library --no-vignettes --timings GeoTcgaData_2.9.0.tar.gz StartedAt: 2025-10-19 22:42:51 -0400 (Sun, 19 Oct 2025) EndedAt: 2025-10-19 22:48:33 -0400 (Sun, 19 Oct 2025) EllapsedTime: 342.2 seconds RetCode: 0 Status: OK CheckDir: GeoTcgaData.Rcheck Warnings: 0