Package: GeoTcgaData Version: 2.9.0 Command: rm -rf GeoTcgaData.buildbin-libdir && mkdir GeoTcgaData.buildbin-libdir && /Users/biocbuild/BBS/utils/build-universal.sh GeoTcgaData_2.9.0.tar.gz /Library/Frameworks/R.framework/Resources/bin/R GeoTcgaData.buildbin-libdir StartedAt: 2025-10-20 03:11:19 -0400 (Mon, 20 Oct 2025) EndedAt: 2025-10-20 03:12:15 -0400 (Mon, 20 Oct 2025) EllapsedTime: 56.5 seconds RetCode: 0 Status: OK PackageFile: GeoTcgaData_2.9.0.tgz PackageFileSize: 3.424 MiB