Package: GeoDiff Version: 1.15.0 Command: /home/biocbuild/bbs-3.22-bioc/R/bin/R CMD INSTALL GeoDiff StartedAt: 2025-10-20 15:15:22 -0400 (Mon, 20 Oct 2025) EndedAt: 2025-10-20 15:16:47 -0400 (Mon, 20 Oct 2025) EllapsedTime: 84.6 seconds RetCode: 0 Status: OK