Package: GenomicSuperSignature Version: 1.17.1 Command: /home/biocbuild/R/R/bin/R CMD INSTALL GenomicSuperSignature StartedAt: 2025-10-16 21:47:29 -0000 (Thu, 16 Oct 2025) EndedAt: 2025-10-16 21:48:08 -0000 (Thu, 16 Oct 2025) EllapsedTime: 39.3 seconds RetCode: 0 Status: OK