Package: GenomicSuperSignature Version: 1.17.0 Command: chmod a+r GenomicSuperSignature -R && F:\biocbuild\bbs-3.22-bioc\R\bin\R.exe CMD build --keep-empty-dirs --no-resave-data GenomicSuperSignature StartedAt: 2025-08-14 20:28:05 -0400 (Thu, 14 Aug 2025) EndedAt: 2025-08-14 20:30:57 -0400 (Thu, 14 Aug 2025) EllapsedTime: 172.1 seconds RetCode: 0 Status: OK PackageFile: GenomicSuperSignature_1.17.0.tar.gz PackageFileSize: 5.967 MiB