Package: GenomicSuperSignature Version: 1.17.0 Command: rm -rf GenomicSuperSignature.buildbin-libdir && mkdir GenomicSuperSignature.buildbin-libdir && F:\biocbuild\bbs-3.22-bioc\R\bin\R.exe CMD INSTALL --build --library=GenomicSuperSignature.buildbin-libdir GenomicSuperSignature_1.17.0.tar.gz StartedAt: 2025-08-15 10:21:57 -0400 (Fri, 15 Aug 2025) EndedAt: 2025-08-15 10:30:10 -0400 (Fri, 15 Aug 2025) EllapsedTime: 493.9 seconds RetCode: 0 Status: OK PackageFile: GenomicSuperSignature_1.17.0.zip PackageFileSize: 6.615 MiB