Package: GenomicSuperSignature Version: 1.17.1 Command: /home/biocbuild/bbs-3.22-bioc/R/bin/R CMD check --install=check:GenomicSuperSignature.install-out.txt --library=/home/biocbuild/bbs-3.22-bioc/R/site-library --timings GenomicSuperSignature_1.17.1.tar.gz StartedAt: 2025-10-20 00:18:23 -0400 (Mon, 20 Oct 2025) EndedAt: 2025-10-20 00:26:04 -0400 (Mon, 20 Oct 2025) EllapsedTime: 461.4 seconds RetCode: 0 Status: WARNINGS CheckDir: GenomicSuperSignature.Rcheck Warnings: 2