Package: GenomicSuperSignature Version: 1.17.0 Command: /Library/Frameworks/R.framework/Resources/bin/R CMD INSTALL GenomicSuperSignature StartedAt: 2025-10-03 15:28:17 -0400 (Fri, 03 Oct 2025) EndedAt: 2025-10-03 15:29:00 -0400 (Fri, 03 Oct 2025) EllapsedTime: 42.6 seconds RetCode: 0 Status: OK