Package: GenomicSuperSignature Version: 1.17.0 Command: /Library/Frameworks/R.framework/Resources/bin/R CMD check --install=check:GenomicSuperSignature.install-out.txt --library=/Library/Frameworks/R.framework/Resources/library --no-vignettes --timings GenomicSuperSignature_1.17.0.tar.gz StartedAt: 2025-10-05 21:45:02 -0400 (Sun, 05 Oct 2025) EndedAt: 2025-10-05 21:50:49 -0400 (Sun, 05 Oct 2025) EllapsedTime: 347.3 seconds RetCode: 0 Status: WARNINGS CheckDir: GenomicSuperSignature.Rcheck Warnings: 2