Package: GenomicSuperSignature Version: 1.17.0 Command: /Library/Frameworks/R.framework/Resources/bin/R CMD build --keep-empty-dirs --no-resave-data GenomicSuperSignature StartedAt: 2025-10-03 17:09:53 -0400 (Fri, 03 Oct 2025) EndedAt: 2025-10-03 17:13:07 -0400 (Fri, 03 Oct 2025) EllapsedTime: 194.6 seconds RetCode: 0 Status: OK PackageFile: GenomicSuperSignature_1.17.0.tar.gz PackageFileSize: 6.355 MiB