Package: GenomicSuperSignature Version: 1.17.0 Command: rm -rf GenomicSuperSignature.buildbin-libdir && mkdir GenomicSuperSignature.buildbin-libdir && /Users/biocbuild/BBS/utils/build-universal.sh GenomicSuperSignature_1.17.0.tar.gz /Library/Frameworks/R.framework/Resources/bin/R GenomicSuperSignature.buildbin-libdir StartedAt: 2025-10-04 02:07:15 -0400 (Sat, 04 Oct 2025) EndedAt: 2025-10-04 02:08:02 -0400 (Sat, 04 Oct 2025) EllapsedTime: 47.0 seconds RetCode: 0 Status: OK PackageFile: GenomicSuperSignature_1.17.0.tgz PackageFileSize: 6.996 MiB