Package: GenomicSuperSignature Version: 1.17.1 Command: rm -rf GenomicSuperSignature.buildbin-libdir && mkdir GenomicSuperSignature.buildbin-libdir && /Users/biocbuild/BBS/utils/build-universal.sh GenomicSuperSignature_1.17.1.tar.gz /Library/Frameworks/R.framework/Resources/bin/R GenomicSuperSignature.buildbin-libdir StartedAt: 2025-10-09 22:42:11 -0400 (Thu, 09 Oct 2025) EndedAt: 2025-10-09 22:42:25 -0400 (Thu, 09 Oct 2025) EllapsedTime: 14.3 seconds RetCode: 0 Status: OK PackageFile: GenomicSuperSignature_1.17.1.tgz PackageFileSize: 7 MiB