Package: GenomicScores Version: 2.21.4 Command: /home/biocbuild/R/R/bin/R CMD build --keep-empty-dirs --no-resave-data GenomicScores StartedAt: 2025-10-17 01:28:15 -0000 (Fri, 17 Oct 2025) EndedAt: 2025-10-17 01:31:06 -0000 (Fri, 17 Oct 2025) EllapsedTime: 171.1 seconds RetCode: 0 Status: OK PackageFile: GenomicScores_2.21.4.tar.gz PackageFileSize: 1.488 MiB