Package: GenomicScores Version: 2.21.4 Command: /home/biocbuild/bbs-3.22-bioc/R/bin/R CMD check --install=check:GenomicScores.install-out.txt --library=/home/biocbuild/bbs-3.22-bioc/R/site-library --timings GenomicScores_2.21.4.tar.gz StartedAt: 2025-10-20 00:18:23 -0400 (Mon, 20 Oct 2025) EndedAt: 2025-10-20 00:23:49 -0400 (Mon, 20 Oct 2025) EllapsedTime: 326.3 seconds RetCode: 0 Status: OK CheckDir: GenomicScores.Rcheck Warnings: 0