Package: GenomicScores Version: 2.21.4 Command: /Library/Frameworks/R.framework/Resources/bin/R CMD INSTALL GenomicScores StartedAt: 2025-10-19 15:27:50 -0400 (Sun, 19 Oct 2025) EndedAt: 2025-10-19 15:28:33 -0400 (Sun, 19 Oct 2025) EllapsedTime: 42.7 seconds RetCode: 0 Status: OK