Package: GenomicScores Version: 2.21.4 Command: /Library/Frameworks/R.framework/Resources/bin/R CMD check --install=check:GenomicScores.install-out.txt --library=/Library/Frameworks/R.framework/Resources/library --no-vignettes --timings GenomicScores_2.21.4.tar.gz StartedAt: 2025-10-22 21:20:13 -0400 (Wed, 22 Oct 2025) EndedAt: 2025-10-22 21:24:51 -0400 (Wed, 22 Oct 2025) EllapsedTime: 277.9 seconds RetCode: 0 Status: OK CheckDir: GenomicScores.Rcheck Warnings: 0