Package: GenomicScores Version: 2.21.4 Command: /Library/Frameworks/R.framework/Resources/bin/R CMD build --keep-empty-dirs --no-resave-data GenomicScores StartedAt: 2025-10-19 17:22:07 -0400 (Sun, 19 Oct 2025) EndedAt: 2025-10-19 17:25:23 -0400 (Sun, 19 Oct 2025) EllapsedTime: 196.3 seconds RetCode: 0 Status: OK PackageFile: GenomicScores_2.21.4.tar.gz PackageFileSize: 1.654 MiB