Package: GenomicScores Version: 2.21.4 Command: rm -rf GenomicScores.buildbin-libdir && mkdir GenomicScores.buildbin-libdir && /Users/biocbuild/BBS/utils/build-universal.sh GenomicScores_2.21.4.tar.gz /Library/Frameworks/R.framework/Resources/bin/R GenomicScores.buildbin-libdir StartedAt: 2025-10-20 03:11:05 -0400 (Mon, 20 Oct 2025) EndedAt: 2025-10-20 03:11:54 -0400 (Mon, 20 Oct 2025) EllapsedTime: 49.2 seconds RetCode: 0 Status: OK PackageFile: GenomicScores_2.21.4.tgz PackageFileSize: 2.079 MiB