Package: GenomicScores Version: 2.21.4 Command: /Library/Frameworks/R.framework/Resources/bin/R CMD INSTALL GenomicScores StartedAt: 2025-10-19 15:10:24 -0400 (Sun, 19 Oct 2025) EndedAt: 2025-10-19 15:10:38 -0400 (Sun, 19 Oct 2025) EllapsedTime: 13.3 seconds RetCode: 0 Status: OK