Package: GenomicScores Version: 2.21.4 Command: /Library/Frameworks/R.framework/Resources/bin/R CMD build --keep-empty-dirs --no-resave-data GenomicScores StartedAt: 2025-10-19 16:29:16 -0400 (Sun, 19 Oct 2025) EndedAt: 2025-10-19 16:30:14 -0400 (Sun, 19 Oct 2025) EllapsedTime: 58.6 seconds RetCode: 0 Status: OK PackageFile: GenomicScores_2.21.4.tar.gz PackageFileSize: 1.66 MiB