Package: GenomicScores Version: 2.21.4 Command: rm -rf GenomicScores.buildbin-libdir && mkdir GenomicScores.buildbin-libdir && /Users/biocbuild/BBS/utils/build-universal.sh GenomicScores_2.21.4.tar.gz /Library/Frameworks/R.framework/Resources/bin/R GenomicScores.buildbin-libdir StartedAt: 2025-10-19 23:01:02 -0400 (Sun, 19 Oct 2025) EndedAt: 2025-10-19 23:01:17 -0400 (Sun, 19 Oct 2025) EllapsedTime: 14.3 seconds RetCode: 0 Status: OK PackageFile: GenomicScores_2.21.4.tgz PackageFileSize: 2.087 MiB