Package: GenomicScores Version: 2.21.4 Maintainer: Robert Castelo MaintainerEmail: robert.castelo at upf.edu git_url: https://git.bioconductor.org/packages/GenomicScores git_branch: devel git_last_commit: cdf86e6 git_last_commit_date: 2025-07-22 13:00:00 -0400 (Tue, 22 Jul 2025)