Package: GenomicRanges Version: 1.61.6 Command: /Library/Frameworks/R.framework/Resources/bin/R CMD INSTALL GenomicRanges StartedAt: 2025-10-23 15:17:11 -0400 (Thu, 23 Oct 2025) EndedAt: 2025-10-23 15:17:41 -0400 (Thu, 23 Oct 2025) EllapsedTime: 30.4 seconds RetCode: 0 Status: OK